BEGIN:VCALENDAR
VERSION:2.0
PRODID:-//ticommunication - ECPv6.15.20//NONSGML v1.0//EN
CALSCALE:GREGORIAN
METHOD:PUBLISH
X-WR-CALNAME:ticommunication
X-ORIGINAL-URL:https://www.ticommunication.eu/en/
X-WR-CALDESC:Events for ticommunication
REFRESH-INTERVAL;VALUE=DURATION:PT1H
X-Robots-Tag:noindex
X-PUBLISHED-TTL:PT1H
BEGIN:VTIMEZONE
TZID:Europe/Berlin
BEGIN:DAYLIGHT
TZOFFSETFROM:+0100
TZOFFSETTO:+0200
TZNAME:CEST
DTSTART:20980330T010000
END:DAYLIGHT
BEGIN:STANDARD
TZOFFSETFROM:+0200
TZOFFSETTO:+0100
TZNAME:CET
DTSTART:20981026T010000
END:STANDARD
BEGIN:DAYLIGHT
TZOFFSETFROM:+0100
TZOFFSETTO:+0200
TZNAME:CEST
DTSTART:20990329T010000
END:DAYLIGHT
BEGIN:STANDARD
TZOFFSETFROM:+0200
TZOFFSETTO:+0100
TZNAME:CET
DTSTART:20991025T010000
END:STANDARD
BEGIN:DAYLIGHT
TZOFFSETFROM:+0100
TZOFFSETTO:+0200
TZNAME:CEST
DTSTART:21000328T010000
END:DAYLIGHT
BEGIN:STANDARD
TZOFFSETFROM:+0200
TZOFFSETTO:+0100
TZNAME:CET
DTSTART:21001031T010000
END:STANDARD
END:VTIMEZONE
BEGIN:VEVENT
DTSTART;VALUE=DATE:20990101
DTEND;VALUE=DATE:20990102
DTSTAMP:20260420T133541
CREATED:20211102T150456Z
LAST-MODIFIED:20250811T133313Z
UID:10000174-4070908800-4070995199@www.ticommunication.eu
SUMMARY:E-Learning courses to prepare your intercultural business situations
DESCRIPTION:Prepare for your international assignments wherever and whenever you like!\nWith our innovative e-learning courses\, you’ll become fit for intercultural business situations. You and your employees control your own learning process – just the way you need it: Where\, when and for as long as you like! Become familiar with the most important cultural business peculiarities of a country\, in order to “survive” intercultural business situations. \n\nThe courses are designed with an eye to variety and include several interactive course elements.\nLearners are encouraged to pay full attention through a combination of reading and listening texts\, videos\, animations\, smaller tasks and quizzes.\nIn the case of more extensive needs\, the courses can be combined with coaching and/or workshops in a blended format.\nThe average time needed to complete each course is between 70 and 90 minutes.\nIf desired\, the individual e-learning courses can also be integrated into your own LMS.\n\nCurrently we offer intercultural e-learnings on the following topics & countries:\n\nIntercultural Awareness\nBusiness Culture Australia\nBusiness Culture Austria\nBusiness Culture Arab Gulf States\nBusiness Culture Belgium\nBusiness Culture Brazil\nBusiness Culture China \nBusiness Culture Germany \nBusiness Culture France\nBusiness Culture Great Britain\nBusiness Culture India\nBusiness Culture Japan\nBusiness Culture Malaysia\nBusiness Culture Mexico\nBusiness Culture The Netherlands\nBusiness Culture Philippines\nBusiness Culture Poland\nBusiness Culture Romania\nBusiness Culture Russia\nBusiness Culture Saudi Arabia\nBusiness Culture Singapore\nBusiness Culture South Korea\nBusiness Culture Sweden\nBusiness Culture Switzerland\nBusiness Culture Southeast Asia\nBusiness Culture Hungary\nBusiness Culture Taiwan\nBusiness Culture UAE\nBusiness Culture USA\n\nIn addition to existing courses\, further e-learning courses are continually being developed. We would be happy to develop specific e-learning courses for your internal needs. \nPrice On Request \n\n\n  \n\n\n\n Name\n \n \n Email\n \n \n Comapny\n \n \n Subject\n \n \n Your message (optional)
URL:https://www.ticommunication.eu/en/event-details/intercultural-e-learnings/
LOCATION:virtual
CATEGORIES:E-Learning
ATTACH;FMTTYPE=image/png:https://www.ticommunication.eu/wp-content/uploads/2021/11/Titelbild_E-Learning_EN_IK-1.png
END:VEVENT
BEGIN:VEVENT
DTSTART;VALUE=DATE:20990101
DTEND;VALUE=DATE:20990102
DTSTAMP:20260420T133541
CREATED:20220906T100456Z
LAST-MODIFIED:20230412T134213Z
UID:10000275-4070908800-4070995199@www.ticommunication.eu
SUMMARY:E-Learning courses Personal Development
DESCRIPTION:Develop yourself further wherever and whenever you want!\nWith our innovative e-learning courses\, you have the opportunity to develop personally and professionally. You and your employees control your own learning process – in a way that suits you. You learn what is relevant to you\, exactly where\, when and for however long you want! \n\nThe courses are designed with an eye to variety and include several interactive course elements.\nIn the case of more extensive needs\, the courses can be combined with coaching and/or workshops in a blended format.\nThe average time needed to complete each course is between 2 and 4 hours.\nIf desired\, the individual e-learning courses can also be integrated into your own LMS.\n\nWe divide our e-learning courses for your individual development thematically into three groups. You can book the individual courses according to your needs. \n1. Personality Development and Mindset\n\nConflict Management – Understanding and Solving Conflicts\nHandling Fear and Uncertainty – Empowering Yourself\nMotivation – Motivating Myself and Others\nShe is strong – Women at Work\nThe Power of Diversity and Inclusion\nUnconscious Bias – Raising Awareness and Reducing Harm\n\n2. Health and inner Balance\n\n4 Pillars of Health\nResilience – Cultivating Your Inner Strengths\nSelf Care – Dealing with Stress and Preventing Burnout\nSelf-Efficacy – The Power of Believing in Yourself\n\n3. Presence and Personal Brand\n\nEmbodiment – Move Your Thinking\nEffective Meeting Facilitation\nRhetoric – Powerful Presentation Techniques\nSuccessful Networking\nThe Power of Storytelling\n\nIn addition to existing courses\, further e-learning courses are continually being developed. We would be happy to develop specific e-learning courses for your internal needs. \nPrice On Request \n\n\n  \n\n\n\n Name\n \n \n Email\n \n \n Comapny\n \n \n Subject\n \n \n Your message (optional)
URL:https://www.ticommunication.eu/en/event-details/e-learnings-personal-development/
LOCATION:virtual
CATEGORIES:E-Learning,Presentation technique,Team Development
ATTACH;FMTTYPE=image/png:https://www.ticommunication.eu/wp-content/uploads/2022/09/Titelbild_E-Learning_EN_personaldevelopment.png
END:VEVENT
BEGIN:VEVENT
DTSTART;VALUE=DATE:20990101
DTEND;VALUE=DATE:20990102
DTSTAMP:20260420T133541
CREATED:20220906T100456Z
LAST-MODIFIED:20230412T133828Z
UID:10000274-4070908800-4070995199@www.ticommunication.eu
SUMMARY:E-Learning courses Agility and Teamwork
DESCRIPTION:Develop yourself further wherever and whenever you want!\nWith our innovative e-learning courses\, you have the opportunity to develop personally and professionally. You and your employees control your own learning process – in a way that suits you. You learn what is relevant to you\, exactly where\, when and for however long you want! \n\nThe courses are designed with an eye to variety and include several interactive course elements.\nIn the case of more extensive needs\, the courses can be combined with coaching and/or workshops in a blended format.\nThe average time needed to complete each course is between 2 and 4 hours.\nIf desired\, the individual e-learning courses can also be integrated into your own LMS.\n\nWe divide our e-learning courses for agility and teamwork thematically into three groups. You can book the individual courses according to your needs. \n1. Productive Teamwork\n\nDeveloping Winnings Teams\nGRID – 4 Factors of Successful Teams\nProject Management\nRemote Collaboration\nSuccessful Intercultural Cooperation\n\n2. Successful Communication\n\nDelivering Bad News\nEffective Communication\nGiving & Receiving Feedback Successfully\nLeadership Conversations\nMindful Communication – Strengthening Connections and Preventing Conflicts\n\n3. Agility and New Work\n\nAgile Frameworks: Scrum\nDesign Thinking – Boosting Innovation and Creativity\nKanban Fundamentals – Stop Starting\, Start Finishing\nUnderstanding Agile\nUnderstanding New Work\n\nIn addition to existing courses\, further e-learning courses are continually being developed. We would be happy to develop specific e-learning courses for your internal needs. \nPrice On Request \n\n\n  \n\n\n\n Name\n \n \n Email\n \n \n Comapny\n \n \n Subject\n \n \n Your message (optional)
URL:https://www.ticommunication.eu/en/event-details/e-learnings-agility-teamwork/
LOCATION:virtual
CATEGORIES:Agility,E-Learning,Negotiation Management,Team Development,Virtual Work
ATTACH;FMTTYPE=image/png:https://www.ticommunication.eu/wp-content/uploads/2022/09/Titelbild_E-Learning_EN_agility.png
END:VEVENT
BEGIN:VEVENT
DTSTART;VALUE=DATE:20990101
DTEND;VALUE=DATE:20990102
DTSTAMP:20260420T133541
CREATED:20220906T100456Z
LAST-MODIFIED:20230412T134105Z
UID:10000273-4070908800-4070995199@www.ticommunication.eu
SUMMARY:E-Learning courses Leadership
DESCRIPTION:Develop yourself further wherever and whenever you want!\nWith our innovative e-learning courses\, you have the opportunity to develop personally and professionally. You and your employees control your own learning process – in a way that suits you. You learn what is relevant to you\, exactly where\, when and for however long you want! \n\nThe courses are designed with an eye to variety and include several interactive course elements.\nIn the case of more extensive needs\, the courses can be combined with coaching and/or workshops in a blended format.\nThe average time needed to complete each course is between 2 and 4 hours.\nIf desired\, the individual e-learning courses can also be integrated into your own LMS.\n\nWe divide our e-learning courses for leadership thematically into three groups. You can book the individual courses according to your needs. \n1. Leading Yourself\n\nEffective Time Management\nGoal Setting\nOKRs – Effective Goal Setting\nSelf-Management – Boosting Your Productivity\nWorking From Home\n\n2. Leading Individuals and Teams\n\nCaring and Daring Leadership\nGood Boss – Confident and Successful People Leadership\nHandling Fear and Uncertainty – Empowering Others\nLeading in a Coaching Mode\nLeading in Times of Change\nLeading Remotely\nPositive Leadership – Strengthening Teams and Individuals\n\n3. Management and Organizational Development\n\nDesigning Sustainable Change\nEntrepreneurial Thinking\nManaging Crises\nStrategy Development – Shaping the Future\n\nIn addition to existing courses\, further e-learning courses are continually being developed. We would be happy to develop specific e-learning courses for your internal needs. \nPrice On Request \n\n\n  \n\n\n\n Name\n \n \n Email\n \n \n Comapny\n \n \n Subject\n \n \n Your message (optional)
URL:https://www.ticommunication.eu/en/event-details/e-learnings-leadership/
LOCATION:virtual
CATEGORIES:Change Management,E-Learning,Leadership,Organizational Development,Team Development,Virtual Work
ATTACH;FMTTYPE=image/png:https://www.ticommunication.eu/wp-content/uploads/2022/09/Titelbild_E-Learning_EN_leadership.png
END:VEVENT
END:VCALENDAR