BEGIN:VCALENDAR
VERSION:2.0
PRODID:-//ticommunication - ECPv6.15.20//NONSGML v1.0//EN
CALSCALE:GREGORIAN
METHOD:PUBLISH
X-ORIGINAL-URL:https://www.ticommunication.eu/de/
X-WR-CALDESC:Veranstaltungen für ticommunication
REFRESH-INTERVAL;VALUE=DURATION:PT1H
X-Robots-Tag:noindex
X-PUBLISHED-TTL:PT1H
BEGIN:VTIMEZONE
TZID:Europe/Berlin
BEGIN:DAYLIGHT
TZOFFSETFROM:+0100
TZOFFSETTO:+0200
TZNAME:CEST
DTSTART:20980330T010000
END:DAYLIGHT
BEGIN:STANDARD
TZOFFSETFROM:+0200
TZOFFSETTO:+0100
TZNAME:CET
DTSTART:20981026T010000
END:STANDARD
BEGIN:DAYLIGHT
TZOFFSETFROM:+0100
TZOFFSETTO:+0200
TZNAME:CEST
DTSTART:20990329T010000
END:DAYLIGHT
BEGIN:STANDARD
TZOFFSETFROM:+0200
TZOFFSETTO:+0100
TZNAME:CET
DTSTART:20991025T010000
END:STANDARD
BEGIN:DAYLIGHT
TZOFFSETFROM:+0100
TZOFFSETTO:+0200
TZNAME:CEST
DTSTART:21000328T010000
END:DAYLIGHT
BEGIN:STANDARD
TZOFFSETFROM:+0200
TZOFFSETTO:+0100
TZNAME:CET
DTSTART:21001031T010000
END:STANDARD
END:VTIMEZONE
BEGIN:VEVENT
DTSTART;VALUE=DATE:20990101
DTEND;VALUE=DATE:20990102
DTSTAMP:20260420T163318
CREATED:20210312T081347Z
LAST-MODIFIED:20251113T090544Z
UID:10000059-4070908800-4070995199@www.ticommunication.eu
SUMMARY:Interkulturelles Training China - Communication survival kit für Deinen Geschäftserfolg in China
DESCRIPTION:Trotz täglicher Berichte und Analysen über und aus dem Reich der Mitte\, bleibt China ein Land voller Mysterien und Rätsel. In diesem schnelllebigen Land ist Widersprüchliches an der Tagesordnung. Hinzu kommt\, dass sich mit Beginn der weltweiten Corona-Pandemie viel im Rhythmus der internationalen Zusammenarbeit verändert hat. Dienstreisen nach China\, früher an der Tagesordnung\, fallen weg\, der virtuelle Austausch nimmt zu. Im Live Online Workshop „Communication Survival kit für Ihren Geschäftserfolg in China“ werden zielgerichtet Hintergründe über die kulturellen und gesellschaftlichen Werte Chinas vermittelt. \nWie schaffen wir es\, zu den weit entfernten Geschäftspartner*innen und Kolleg*innen in China den Kontakt nicht nur aufrecht zu erhalten\, sondern sogar zu verbessern? Liegt hierin vielleicht auch eine Chance\, auf einer anderen Ebene viel näher zusammenzurücken als zuvor? Welche Hierarchien gibt es? Du erhältst Antwort auf diese Fragen\, die Ihnen ermöglicht\, mit verschiedenen Geschäftspartnern korrekt\, zielgerichtet und erfolgreich zu interagieren. \nIm Live Online Workshop „Communication survival kit für Ihren Geschäftserfolg in China“ lernst Du ausgewählte Kulturdimensionen kennen\, die für Ihren Arbeitsalltag wichtig sind. Thematisiert werden Zeitmanagement\, Kommunikation\, Führung\, sowie Konfliktmanagement. Interaktive Übungen und Fallbeispiele gestalten den Workshop praxisorientiert und veranschaulichen kulturelle Unterschiede sowie Gemeinsamkeiten im beruflichen Alltag. \n\nNutzen\n\nIm Workshop erhältst Du Impulse\, wie Du mit Kunden und Mitarbeiter*innen aus China erfolgreich interagieren kannst. Im Einzelnen verfolgt der Workshop daher folgende Ziele: \n\nSteigerung der interkulturellen Kompetenzen und Förderung des Verständnisses für die Verschiedenheit und insbesondere die Gemeinsamkeit von Menschen\nDas gewonnene Hintergrundwissen und die praxisorientierten Handlungsempfehlungen garantieren einen reibungslosen Geschäftsaustausch und eine erfolgreiche Zusammenarbeit mit Chines*innen\n\nMethoden\n\n\nInteraktive Übungen\nNutzung von Breakout Sessions für Gruppenübungen\nAnalyse von Fallbeispielen\nErfahrungsaustausch und Diskussion zwischen den Teilnehmenden\n\n\nHinweis zu den Zeiten\n\nAls virtueller Workshop: 9 – 12 Uhr und 14 – 17 Uhr\nAls Inhouse-Maßnahme: 9 – 17 Uhr inkl. Mittagspause und Kaffeepausen\n\nTeilnehmerzahl: 3 bis max 10\nDas Training kannst Du als Inhouse-Maßnahme oder als virtuelles Training buchen. Bei mehr als zwei Interessenten können wir auch ein offenes Training nach Deinen Wünschen terminieren. Frag unter der untenstehenden Anmeldung nach den Möglichkeiten. \nTrainingssprachen: Deutsch und Englisch.
URL:https://www.ticommunication.eu/de/event-details/interkulturelles-training-china-communication-survival-kit-fuer-ihren-geschaeftserfolg-in-china-2/
LOCATION:virtuell
CATEGORIES:Interkulturelle Kompetenz
ATTACH;FMTTYPE=image/png:https://www.ticommunication.eu/wp-content/uploads/2021/08/China_arbara_Geldermann_Veranstaltungen_Titelbild.png
ORGANIZER;CN="Dr. Barbara Geldermann":MAILTO:contact@ticommunication.eu
END:VEVENT
BEGIN:VEVENT
DTSTART;VALUE=DATE:20990101
DTEND;VALUE=DATE:20990102
DTSTAMP:20260420T163318
CREATED:20210707T103035Z
LAST-MODIFIED:20251113T095325Z
UID:10000047-4070908800-4070995199@www.ticommunication.eu
SUMMARY:Update China – Was muss ich über die digitale Revolution in China wissen? Interkulturelles Training China – Schwerpunkt Digitalisierung des Lebens und Arbeiten in China und mit Chines*innen
DESCRIPTION:Die Zusammenarbeit mit chinesischen Kolleg*innen ist in vielen Unternehmen beruflicher Alltag. Dabei erfahren deutsche Fach- und Führungskräfte ziemlich schnell\, dass nicht nur das Essen mit Stäbchen\, beeindruckende architektonische Bauwerke und tausende Schriftzeichen anders und bemerkenswert sind. Von 1\,4 Milliarden Chines*innen sind rund 990 Millionen Menschen „mobile only“\, d.h. sie nutzen ihr Smartphone\, um ihren kompletten (digitalen) Alltag zu managen. Ein Alltag\, der digital allgegenwärtig ist: Fast die gesamte Kommunikation läuft in China über WeChat! Chines*innen haben in den letzten Jahrzehnten einen Sprung von analog auf Smartphones gemacht – und zwar ohne einen langsamen Übergang. Für sie gab es keine Zwischenschritte von Telefon\, Fax\, Computer zum Smartphone wie bei uns. Kultureller Hintergrund dafür ist sicherlich die Neugierde und die Flexibilität\, Neues\, Unbekanntes einfach auszuprobieren. \n\nNutzen\n\nErfahre in einem individuellen Training: \n\n\nWas deutsche Mitarbeitende im Umgang mit ihren Geschäftspartner*innen in China\, in Deutschland oder virtuell aktuell erwartet\nWas Digitalisierung mit Kultur und einem interkulturellen Training China zu tun hat\nWie Du das CSCS\, das Corporate Social Credit System\, oder die Super-App WeChat für Dein Business nutzen können\nUnd vor allem: Was musst Du in der Kommunikation beachten?\n\n\nMethoden\n\n\nKleingruppenarbeit in Breakout rooms\nStrukturierte Diskussion im Webinar & fachliche Inputs\nKreative Methoden\nErfahrungsaustausch\n\n\nHinweis zu den Zeiten\n\nAls virtueller Workshop: 9 – 12 Uhr und 14 – 17 Uhr\nAls Inhouse-Maßnahme: 9 – 17 Uhr inkl. Mittagspause und Kaffeepausen\n\nTeilnehmerzahl: 3 bis max. 10\nDas Training kannst Du als Inhouse-Maßnahme oder als virtuelles Training buchen. Bei mehr als zwei Interessenten können wir auch ein offenes Training nach Deinen Wünschen terminieren. Frag unter der untenstehenden Anmeldung nach den Möglichkeiten. \nTrainingssprachen: Deutsch und Englisch. \n 
URL:https://www.ticommunication.eu/de/event-details/update-china-was-muss-ich-ueber-die-digitale-revolution-in-china-wissen-interkulturelles-training-china-schwerpunkt-digitalisierung-des-lebens-und-arbeiten-in-china-und-mit-chine/
LOCATION:virtuell
CATEGORIES:Interkulturelle Kompetenz
ATTACH;FMTTYPE=image/png:https://www.ticommunication.eu/wp-content/uploads/2021/08/China_Barbara_Geldermann_Veranstaltungen_Titelbild.png
ORGANIZER;CN="Dr. Barbara Geldermann":MAILTO:contact@ticommunication.eu
END:VEVENT
BEGIN:VEVENT
DTSTART;VALUE=DATE:20990101
DTEND;VALUE=DATE:20990102
DTSTAMP:20260420T163318
CREATED:20220221T140736Z
LAST-MODIFIED:20251126T150212Z
UID:10000224-4070908800-4070995199@www.ticommunication.eu
SUMMARY:Blended Learning Workshop: WEST trifft OST. Erfolgreich arbeiten mit Chines*innen!
DESCRIPTION:Du wirst nach China entsendet oder managst ein Projekt im chinesischen Umfeld? Du stehst vielleicht in schwierigen Verhandlungen im China-Business? Oder Du baust Geschäftsbeziehungen aus oder willst diese aufbauen? Du möchtest Deine Projekt-\, Sales- oder Einkaufs-Teams besser vorbereitet in die Kommunikation mit chinesischen Geschäftspartner*Innen senden? Dann ist dieser Kurs interessant für Dich! \nDie Zusammenarbeit mit chinesischen Kolleg*Innen international oder in China ist beruflicher Alltag in vielen Unternehmen. Die chinesische Kultur hat einen entscheidenden Einfluss auf das Denken\, Fühlen und Handeln Ihrer Kolleg*Innen. Arbeit- und Führungsstile\, die wir als selbstverständlich erachten\, sind plötzlich unangemessen und falsch. Im Arbeits- und Geschäftsleben gibt es kulturell unterschiedliche Werte\, was im Alltag leicht zu Schwierigkeiten führt\, aber richtig genutzt auch Entwicklungspotential bietet. \nInhalte\nDer Blended Learning Workshop führt praxisorientiert durch die kulturellen Unterschiede. Folgende Inhalte findest Du in den vier Modulen\, die Du einzeln oder gesamt buchen kannst: \n\nModul 1: Was bedeutet Kultur? – Kulturelle Sensibilität kennen lernen und die persönliche Wahrnehmung.\nModul 2: Land und Leute – Erwerb von Kenntnissen über „Wie tickt China?“: Land\, Sprache\, Menschen\, Sitten und Gebräuche.\nModul 3: Kommunikation mit Chinesen – Verbesserung der Kommunikation mit chinesischen Kollegen\, Kunden und chinesischen Mitarbeitern.\nModul 4: Arbeiten mit Chinesen – Erlernen und Einüben der wichtigsten Elemente der Zusammenarbeit.\n\nNutzen\n\nSensibilität gegenüber kulturellen Unterschieden erworben\nErfahre\, wie Deine persönliche Wahrnehmung ist und welche Konsequenzen das für eine gute Zusammenarbeit hat\nGrundsätzliches Wissen zu „Wie tickt China?“: Staat\, Sprache\, Menschen\, Sitten und Gebräuche\, erworben\nUrsachen von Konfliktfeldern/Missverständnissen verstanden und Lösungswege erfahren\nVerbesserung der Kommunikation mit chinesischen Kunden und chinesischen Mitarbeitenden\n\nMethoden\nDer didaktische Wechsel zwischen Online-Lernelementen und Webinaren sichert Flexibilität und Nachhaltigkeit. Die Kursinhalte sind in englischer Sprache und können so auch für international zusammengesetzte Teams genutzt werden. Die Webinare und Präsenztrainings können auf Wunsch maßgeschneidert in deutsch oder englischer Sprache angeboten werden. \n\nWissensaufbau durch Erklärvideos\nVerstetigung des Wissens durch Übungsaufgaben\, z.B. Fallbearbeitung\, Rätsel\, Memory und viele andere interaktive Lernelemente\, die Spaß machen – Learning Nuggets\n4 Webinare zur Vertiefung\, Feedback\, Analyse\, Bearbeitung spezifischer Fragen/Problemen\, Erfahrungsaustausch und Diskussion zwischen den Teilnehmenden\n\nHinweis zu den Zeiten\n\nGesamtlerndauer der Selbstlerneinheiten ca. 90 Minuten\, individuelle Bearbeitungszeit je nach Intensität kann variieren.\nVier Blöcke\, auch einzeln als Microlearning nutzbar.\n4 x Webinar 90 Minuten oder 1 Präsenztraining\nDauer ca. 12 Stunden\n\nTeilnehmerzahl: 3 bis max 10\nDen Workshop kannst Du als Inhouse-Maßnahme oder als virtuelles Training buchen. Bei mehr als zwei Interessenten können wir auch ein offenes Training nach Deinen Wünschen terminieren. Frage unter der untenstehenden Anmeldung nach den Möglichkeiten. \nTrainingssprachen: Deutsch und Englisch.
URL:https://www.ticommunication.eu/de/event-details/blended-learning-workshop-west-trifft-ost-erfolgreich-arbeiten-mit-chinesinnen/
LOCATION:virtuell
CATEGORIES:Interkulturelle Kompetenz
ATTACH;FMTTYPE=image/png:https://www.ticommunication.eu/wp-content/uploads/2021/09/China-Barbara_Geldermann_Veranstaltung_Titelbild.png
ORGANIZER;CN="Dr. Barbara Geldermann":MAILTO:contact@ticommunication.eu
END:VEVENT
END:VCALENDAR