BEGIN:VCALENDAR
VERSION:2.0
PRODID:-//ticommunication - ECPv6.15.20//NONSGML v1.0//EN
CALSCALE:GREGORIAN
METHOD:PUBLISH
X-WR-CALNAME:ticommunication
X-ORIGINAL-URL:https://www.ticommunication.eu/de/
X-WR-CALDESC:Veranstaltungen für ticommunication
REFRESH-INTERVAL;VALUE=DURATION:PT1H
X-Robots-Tag:noindex
X-PUBLISHED-TTL:PT1H
BEGIN:VTIMEZONE
TZID:Europe/Berlin
BEGIN:DAYLIGHT
TZOFFSETFROM:+0100
TZOFFSETTO:+0200
TZNAME:CEST
DTSTART:20980330T010000
END:DAYLIGHT
BEGIN:STANDARD
TZOFFSETFROM:+0200
TZOFFSETTO:+0100
TZNAME:CET
DTSTART:20981026T010000
END:STANDARD
BEGIN:DAYLIGHT
TZOFFSETFROM:+0100
TZOFFSETTO:+0200
TZNAME:CEST
DTSTART:20990329T010000
END:DAYLIGHT
BEGIN:STANDARD
TZOFFSETFROM:+0200
TZOFFSETTO:+0100
TZNAME:CET
DTSTART:20991025T010000
END:STANDARD
BEGIN:DAYLIGHT
TZOFFSETFROM:+0100
TZOFFSETTO:+0200
TZNAME:CEST
DTSTART:21000328T010000
END:DAYLIGHT
BEGIN:STANDARD
TZOFFSETFROM:+0200
TZOFFSETTO:+0100
TZNAME:CET
DTSTART:21001031T010000
END:STANDARD
END:VTIMEZONE
BEGIN:VEVENT
DTSTART;VALUE=DATE:20990101
DTEND;VALUE=DATE:20990102
DTSTAMP:20260420T163105
CREATED:20210903T115832Z
LAST-MODIFIED:20251114T111404Z
UID:10000166-4070908800-4070995199@www.ticommunication.eu
SUMMARY:Die Kraft der Resilienz - Die eigene Widerstandkraft stärken und beruflich erfolgreich agieren
DESCRIPTION:Im Leben setzen wir uns beruflich und privat mit vielen schönen Momenten\, aber auch mit vielen herausfordernden\, schwierigen Situationen auseinander. Menschen gehen dabei mit herausfordernden Situationen sehr unterschiedlich um. Einige verleugnen oder verharmlosen diese und machen weiter\, wie bisher. Andere nähren ihre Ängste täglich mehrfach und wieder andere schaffen es\, eine positive Grundstimmung zu bewahren. Letzterer Umgang mit eigenen schwierigen Situationen ist nicht nur der gesündeste\, sondern auch der klügere Weg. Eine zuversichtlich positive Grundhaltung ist ein wichtiger Bestandteil von Resilienz. Resilienz ist die psychische Widerstandsfähigkeit\, welche ein Mensch in Konflikt- und Krisensituationen zeigt. Sie kann als „die Fähigkeit der Erfolgreichen“ bezeichnet werden. Die eigene Resilienzfähigkeit hilft uns nicht nur dabei\, schwierige Zeiten zu überstehen und daraus gestärkter herauszugehen\, sondern macht gerade auch beruflich einen entscheidenden Unterschied. Das Onlineseminar fokussiert sich auf die Stärkung der eigenen Resilienz im beruflichen Kontext in der VUCAD² Realität. \nNutzen\n\n\nDu erfährst die Grundlagen der Resilienz und weshalb sie gerade jetzt so entscheidend für beruflichen Erfolg in Führung oder im Team ist\nDu stärkst die eigene Resilienz und nehmen Modelle mit\, die sie gleich im beruflichen Kontext integrieren und anwenden können\nDu reflektierst die eigene Resilienzfähigkeit\nDu erlernst anwendbare Methoden und Modelle\, um ihre Resilienz im beruflichen Kontext zu stärken oder zu entwickeln\nDu arbeitest an eigenen Themen\n\n\nMethoden\n\n\nInteraktives Arbeiten mit anwendungsorientierten Übungen zur Reflexion und Anwendung\nPraxisbasierte Beispiele\nErfahrungsaustausch und gegenseitiges Lernen\n\n\nHinweis zu den Zeiten\n\nAls virtueller Workshop: 9 – 12 Uhr und 14 – 17 Uhr\nAls Inhouse-Maßnahme: 9 – 17 Uhr inkl. Mittagspause und Kaffeepausen\n\nTeilnehmerzahl: 3 bis max. 10\nDas Training kannst Du als Inhouse-Maßnahme oder als virtuelles Training buchen. Bei mehr als zwei Interessenten können wir auch ein offenes Training nach Ihren Wünschen terminieren. Frage unter der untenstehenden Anmeldung nach den Möglichkeiten. \nTrainingssprachen: Deutsch und Englisch. \n 
URL:https://www.ticommunication.eu/de/event-details/die-kraft-der-resilienz-die-eigene-widerstandkraft-staerken-und-beruflich-erfolgreich-agieren/
LOCATION:virtuell
CATEGORIES:Resilienz
ATTACH;FMTTYPE=image/png:https://www.ticommunication.eu/wp-content/uploads/2021/07/Resilienz_Antje_Strahl_Veranstaltung_Titelbild.png
ORGANIZER;CN="Antje Strahl":MAILTO:contact@ticommunication.eu
END:VEVENT
END:VCALENDAR