BEGIN:VCALENDAR
VERSION:2.0
PRODID:-//ticommunication - ECPv6.15.20//NONSGML v1.0//EN
CALSCALE:GREGORIAN
METHOD:PUBLISH
X-WR-CALNAME:ticommunication
X-ORIGINAL-URL:https://www.ticommunication.eu/de/
X-WR-CALDESC:Veranstaltungen für ticommunication
REFRESH-INTERVAL;VALUE=DURATION:PT1H
X-Robots-Tag:noindex
X-PUBLISHED-TTL:PT1H
BEGIN:VTIMEZONE
TZID:Europe/Berlin
BEGIN:DAYLIGHT
TZOFFSETFROM:+0100
TZOFFSETTO:+0200
TZNAME:CEST
DTSTART:20240331T010000
END:DAYLIGHT
BEGIN:STANDARD
TZOFFSETFROM:+0200
TZOFFSETTO:+0100
TZNAME:CET
DTSTART:20241027T010000
END:STANDARD
BEGIN:DAYLIGHT
TZOFFSETFROM:+0100
TZOFFSETTO:+0200
TZNAME:CEST
DTSTART:20250330T010000
END:DAYLIGHT
BEGIN:STANDARD
TZOFFSETFROM:+0200
TZOFFSETTO:+0100
TZNAME:CET
DTSTART:20251026T010000
END:STANDARD
BEGIN:DAYLIGHT
TZOFFSETFROM:+0100
TZOFFSETTO:+0200
TZNAME:CEST
DTSTART:20260329T010000
END:DAYLIGHT
BEGIN:STANDARD
TZOFFSETFROM:+0200
TZOFFSETTO:+0100
TZNAME:CET
DTSTART:20261025T010000
END:STANDARD
BEGIN:DAYLIGHT
TZOFFSETFROM:+0100
TZOFFSETTO:+0200
TZNAME:CEST
DTSTART:20270328T010000
END:DAYLIGHT
BEGIN:STANDARD
TZOFFSETFROM:+0200
TZOFFSETTO:+0100
TZNAME:CET
DTSTART:20271031T010000
END:STANDARD
END:VTIMEZONE
BEGIN:VEVENT
DTSTART;TZID=Europe/Berlin:20250603T160000
DTEND;TZID=Europe/Berlin:20250603T170000
DTSTAMP:20260419T142452
CREATED:20250210T110349Z
LAST-MODIFIED:20250514T132445Z
UID:10000382-1748966400-1748970000@www.ticommunication.eu
SUMMARY:ERLEBNISWERKSTATT Coaching: Vom Stolperstein zur Chance – Reframing erleben
DESCRIPTION:Coaching kann Türen öffnen\, an die wir nicht mal klopfen würden. Beim Reframing verschieben wir den Fokus – aus Blockade wird Chance. Genau das erlebst Du live in unserer nächsten ERLEBNISWERKSTATT. \nEin Beispiel: Melanie\, Teamleiterin in einem IT-Unternehmen\, fühlt sich durch einen kritisch auftretenden Mitarbeiter ständig provoziert. Ihr erster Gedanke: „Der will mich bloßstellen.“ Im Coaching wechselt sie die Perspektive: „Was\, wenn sein Widerstand ein Wunsch nach Mitgestaltung ist?“ Statt sich zu verteidigen\, geht sie in den Dialog – und entdeckt\, dass der Mitarbeiter fachlich stark ist\, sich aber nicht gehört fühlt. Heute sieht Melanie Kritik nicht mehr als Angriff\, sondern als Chance zur Einbindung – und führt mit mehr Klarheit und Offenheit. \nIn unserer ERLEBNISWERKSTATT Coaching mit unseren EXPERTS Susanna Bezzel und Anna Corbett tauchst Du in einer kleinen Gruppe (max. 10 Teilnehmende) virtuell ein und erlebst\, wie Reframing in Deiner Lebens-/Arbeitsrealität wirken kann. Dazu stellen wir Dir ein Coaching-Tool vor\, das Du direkt ausprobieren kannst. \nEgal\, ob Du neugierig auf Coaching bist oder schon erste Erfahrungen gesammelt hast – in der ERLEBNISWERKSTATT geht es darum\, gemeinsam zu entdecken und erste Impulse mitzunehmen.
URL:https://www.ticommunication.eu/de/event-details/erlebniswerkstatt-coaching/
CATEGORIES:Coaching,EXPERTS Input & ERLEBNISWERKSTATT Coaching
ATTACH;FMTTYPE=image/png:https://www.ticommunication.eu/wp-content/uploads/2025/02/Vorlage-Event-Titelbild-mit-Trainerbild-1.png
ORGANIZER;CN="Anna Corbett":MAILTO:anna.corbett@ticommunication.eu
END:VEVENT
BEGIN:VEVENT
DTSTART;TZID=Europe/Berlin:20260303T120000
DTEND;TZID=Europe/Berlin:20260303T130000
DTSTAMP:20260419T142452
CREATED:20250820T114031Z
LAST-MODIFIED:20251208T072416Z
UID:10000396-1772539200-1772542800@www.ticommunication.eu
SUMMARY:ERLEBNISWERKSTATT Coaching: Spielraum statt Zwang - Entscheidungen neu denken
DESCRIPTION:Coaching kann Denkwege öffnen\, die wir uns alleine oft versperren. Gerade bei Entscheidungen fühlen wir uns manchmal wie im Tunnel – nur eine Richtung scheint möglich. In Wirklichkeit gibt es meist mehr Optionen\, als wir auf den ersten Blick sehen. Genau diesen Spielraum erlebst Du live in unserer nächsten ERLEBNISWERKSTATT. \nEin Beispiel: Thomas\, Bereichsleiter in einem Industrieunternehmen\, ringt seit Wochen mit einer Personalentscheidung. Er schwankt zwischen zwei Kandidatinnen\, sieht nur „richtig“ oder „falsch“. Im Coaching entdeckt er eine neue Frage: „Welche Stärken braucht mein Team wirklich – und wie kann ich beide Ressourcen nutzen?“ Anstatt sich in einer Entweder-oder-Situation gefangen zu fühlen\, entwickelt er ein Modell\, bei dem er beiden Frauen Entwicklungsmöglichkeiten bietet. Heute erlebt Thomas seine Entscheidung nicht mehr als Zwang\, sondern als Gestaltungsspielraum – und trifft klarere\, mutigere Entscheidungen. \nIn unserer ERLEBNISWERKSTATT Coaching mit unseren EXPERTS Susanna Bezzel und Anna Corbett tauchst Du in einer kleinen Gruppe (max. 10 Teilnehmende) virtuell ein und erlebst\, wie sich Entscheidungen durch Coaching neu denken lassen. Wir stellen Dir ein Coaching-Tool vor\, mit dem Du Deinen Entscheidungsspielraum erweitern kannst – und Du probierst es direkt aus. \nOb Du neugierig auf Coaching bist oder bereits erste Erfahrungen mitbringst – in der ERLEBNISWERKSTATT geht es darum\, gemeinsam zu erleben\, wie Coaching Perspektiven verändert und praktische Impulse für Deinen Alltag liefert.
URL:https://www.ticommunication.eu/de/event-details/erlebniswerkstatt-coaching-spielraum-statt-zwang-entscheidungen-neu-denken/
LOCATION:virtuell
CATEGORIES:Coaching,EXPERTS Input & ERLEBNISWERKSTATT Coaching
ATTACH;FMTTYPE=image/png:https://www.ticommunication.eu/wp-content/uploads/2025/02/Vorlage-Event-Titelbild-mit-Trainerbild-1.png
ORGANIZER;CN="Anna Corbett":MAILTO:anna.corbett@ticommunication.eu
END:VEVENT
END:VCALENDAR